BEGIN:VCALENDAR
VERSION:2.0
PRODID:-//ChamberMaster//Event Calendar 2.0//EN
METHOD:PUBLISH
X-PUBLISHED-TTL:P3D
REFRESH-INTERVAL:P3D
CALSCALE:GREGORIAN
BEGIN:VEVENT
DTSTART:20221203T180000Z
DTEND:20221203T210000Z
X-MICROSOFT-CDO-ALLDAYEVENT:FALSE
SUMMARY:Oil Painting Workshop - Landscape Featuring A Pathway
DESCRIPTION:1) Learn how to simplify the image and make the basic drawing 2) Block in the basic colors 3) Overlay details and learn the basics about perspective 4) Manipulate the oil paint to create depth Supplies to be provided: 1) 8x10 canvas board 2) Oil paint\, paint thinner\, disposable pallet in amount\, and brushes needed for the project 3) Tray to hold and transport the painting Workshop will be taught by landscape artist\, Claudia Hacker Below are 2 more examples of her work and her process for painting
X-ALT-DESC;FMTTYPE=text/html:1) Learn how to simplify the image and make the basic drawing 2) Block in the basic colors 3) Overlay details and learn the basics about perspective 4) Manipulate the oil paint to create depth Supplies to be provided: 1) 8x10 canvas board 2) Oil paint\, paint thinner\, disposable pallet in amount\, and brushes needed for the project 3) Tray to hold and transport the painting Workshop will be taught by landscape artist\, Claudia Hacker Below are 2 more examples of her work and her process for painting
LOCATION:Bee's Knees 14644 A Lakeshore Drive Clearlake
UID:e.2411.15683
SEQUENCE:3
DTSTAMP:20260425T140148Z
URL:https://support.lakecochamber.com/events/details/oil-painting-workshop-landscape-featuring-a-pathway-15683
END:VEVENT

END:VCALENDAR
