BEGIN:VCALENDAR
VERSION:2.0
PRODID:-//ChamberMaster//Event Calendar 2.0//EN
METHOD:PUBLISH
X-PUBLISHED-TTL:P3D
REFRESH-INTERVAL:P3D
CALSCALE:GREGORIAN
BEGIN:VEVENT
DTSTART:20200905T010000Z
DTEND:20200905T040000Z
X-MICROSOFT-CDO-ALLDAYEVENT:FALSE
SUMMARY:Open Mic @MAC
DESCRIPTION:Come one come all. Join us at MAC for an evening of music and camaraderie. Bring an instrument or just yourself and sing\, play or just enjoy the tunes played by your friends and neighbors.
X-ALT-DESC;FMTTYPE=text/html:Come one come all. Join us at MAC for an evening of music and camaraderie. Bring an instrument or just yourself and sing\, play or just enjoy the tunes played by your friends and neighbors.
LOCATION:21456 State Hwy. 175 @29\, Middletown CA\, 9561
UID:e.2411.9222
SEQUENCE:3
DTSTAMP:20260421T070444Z
URL:https://support.lakecochamber.com/events/details/open-mic-mac-09-04-2020-9222
END:VEVENT

END:VCALENDAR
