BEGIN:VCALENDAR
VERSION:2.0
PRODID:-//ChamberMaster//Event Calendar 2.0//EN
METHOD:PUBLISH
X-PUBLISHED-TTL:P3D
REFRESH-INTERVAL:P3D
CALSCALE:GREGORIAN
BEGIN:VEVENT
DTSTART:20201206T020000Z
DTEND:20201206T040000Z
X-MICROSOFT-CDO-ALLDAYEVENT:FALSE
SUMMARY:Opening Gallery Reception\, "Home"
DESCRIPTION:Middletown Art Center is please to showcase the new exhibit\, "Home." Reception will be a hybrid opening\, both online and in person (social distancing and masking observed). This exhibit speaks to the places where humans and other living beings establish roots\, the shelters we occupy\, and our connection to the place we call "Home".
X-ALT-DESC;FMTTYPE=text/html:Middletown Art Center is please to showcase the new exhibit\, &quot\;Home.&quot\; Reception will be a hybrid opening\, both online and in person (social distancing and masking observed). This exhibit speaks to the places where humans and other living beings establish roots\, the shelters we occupy\, and our connection to the place we call &ldquo\;Home&rdquo\;.
LOCATION:Middletown Art Center
UID:e.2411.12335
SEQUENCE:3
DTSTAMP:20260426T034620Z
URL:https://support.lakecochamber.com/events/details/opening-gallery-reception-home-12335
END:VEVENT

END:VCALENDAR
