BEGIN:VCALENDAR
VERSION:2.0
PRODID:-//ChamberMaster//Event Calendar 2.0//EN
METHOD:PUBLISH
X-PUBLISHED-TTL:P3D
REFRESH-INTERVAL:P3D
CALSCALE:GREGORIAN
BEGIN:VEVENT
DTSTART:20220710T010000Z
DTEND:20220710T033000Z
X-MICROSOFT-CDO-ALLDAYEVENT:FALSE
SUMMARY:Opening Reception: Earth Sky and Everything in Between
DESCRIPTION:The public is invited to the opening reception of Earth Sky and Everything in Between   an exhibit of contemporary Native American art curated by acclaimed Pomo basket weaver and cultural educator Corine Pearce. The exhibit opens at Middletown Art Center (MAC) this Saturday evening July 9th from 6-8:30pm. An introduction and blessing will take place around 6:30pm. The exhibit includes baskets\, paintings\, photos\, digital media\, and installations. Artwork on display celebrates traditional cultural arts and resilience while highlighting current\, and long-time challenges and issues. This is the first exhibit of its kind in Lake County.
X-ALT-DESC;FMTTYPE=text/html:The public is invited to the opening reception of Earth Sky and Everything in Between &ndash\; an exhibit of contemporary Native American art curated by acclaimed Pomo basket weaver and cultural educator Corine Pearce. The exhibit opens at Middletown Art Center (MAC) this Saturday evening July 9th from 6-8:30pm. An introduction and blessing will take place around 6:30pm. The exhibit includes baskets\, paintings\, photos\, digital media\, and installations. Artwork on display celebrates traditional cultural arts and resilience while highlighting current\, and long-time challenges and issues. This is the first exhibit of its kind in Lake County.
LOCATION:Middletown Art Center 21456 State Hwy 175 Middletown\, CA 95461 At the corner of Hwys 29 & 175
UID:e.2411.15419
SEQUENCE:3
DTSTAMP:20260425T102520Z
URL:https://support.lakecochamber.com/events/details/opening-reception-earth-sky-and-everything-in-between-15419
END:VEVENT

END:VCALENDAR
