BEGIN:VCALENDAR
VERSION:2.0
PRODID:-//ChamberMaster//Event Calendar 2.0//EN
METHOD:PUBLISH
X-PUBLISHED-TTL:P3D
REFRESH-INTERVAL:P3D
CALSCALE:GREGORIAN
BEGIN:VEVENT
DTSTART:20260107T170000Z
DTEND:20260107T190000Z
X-MICROSOFT-CDO-ALLDAYEVENT:FALSE
SUMMARY:Paella Night
DESCRIPTION:Join us for a casual Paella dinner! We host Paella night every first Wednesday of the month and feature rotating local Chefs! Dinner is $25/person ($10 pre-paid deposit/ $15 night of) and wine is sold by the bottle.
X-ALT-DESC;FMTTYPE=text/html:Join us for a casual Paella dinner! We host Paella night every first Wednesday of the month and feature rotating local Chefs! Dinner is $25/person ($10 pre-paid deposit/ $15 night of) and wine is sold by the bottle.
LOCATION:13372 Spruce Grove Rd Lower Lake\, CA 95457 707-994-4068
UID:e.2411.20286
SEQUENCE:3
DTSTAMP:20260421T120708Z
URL:https://support.lakecochamber.com/events/details/paella-night-01-07-2026-20286
END:VEVENT

END:VCALENDAR
