BEGIN:VCALENDAR
VERSION:2.0
PRODID:-//ChamberMaster//Event Calendar 2.0//EN
METHOD:PUBLISH
X-PUBLISHED-TTL:P3D
REFRESH-INTERVAL:P3D
CALSCALE:GREGORIAN
BEGIN:VEVENT
DTSTART:20180812T233000Z
DTEND:20180813T065500Z
X-MICROSOFT-CDO-ALLDAYEVENT:FALSE
SUMMARY:Perseid Meteor Shower Extravaganza
DESCRIPTION:This is the Aurora RV Park's third annual Perseid Meteor Shower event\, and it gets better each year. We have educational exhibits\, free use of our kayaks and canoe\, discounted jet ski rides\, food\, drink\, a Perseid Meteor Shower lecture\, an astronomy-related feature film at our outdoor Lakeside Theater\, and - as the grand finale - a spectacular viewing of the Northern Hemisphere's most prolific yearly display of meteors. The viewing this year should be especially good\, since August 12 is only two days after the new moon. Come one and all and enjoy nature's grandest fireworks display.
X-ALT-DESC;FMTTYPE=text/html:This is the Aurora RV Park&#39\;s third annual Perseid Meteor Shower event\, and it gets better each year. We have educational exhibits\, free use of our kayaks and canoe\, discounted jet ski rides\, food\, drink\, a Perseid Meteor Shower lecture\, an astronomy-related feature film at our outdoor Lakeside Theater\, and - as the grand finale - a spectacular viewing of the Northern Hemisphere&#39\;s most prolific yearly display of meteors. The viewing this year should be especially good\, since August 12 is only two days after the new moon. Come one and all and enjoy nature&#39\;s grandest fireworks display.
LOCATION:The Aurora RV Park 2985 Lakeshore Blvd. Nice\, CA (You may need to input Upper Lake instead of Nice if you are using GPS.)
UID:e.2411.3809
SEQUENCE:3
DTSTAMP:20260423T181202Z
URL:https://support.lakecochamber.com/events/details/perseid-meteor-shower-extravaganza-3809
END:VEVENT

END:VCALENDAR
