BEGIN:VCALENDAR
VERSION:2.0
PRODID:-//ChamberMaster//Event Calendar 2.0//EN
METHOD:PUBLISH
X-PUBLISHED-TTL:P3D
REFRESH-INTERVAL:P3D
CALSCALE:GREGORIAN
BEGIN:VEVENT
DTSTART;VALUE=DATE:20180906
DTEND;VALUE=DATE:20180910
TRANSP:TRANSPARENT
X-MICROSOFT-CDO-ALLDAYEVENT:TRUE
SUMMARY:Pilot Registration for Clear Lake Seaplane Splash In Celebration 2018
DESCRIPTION:Clear Lake Seaplane Splash & Fly In\n\nThe oldest and largest seaplane fly-in west of the Mississippi since 1979\n\nSeptember 6-9\, 2018 \n\n\nRegistration is open for the 39th annual Clear Lake Splash & Fly-In September 8-9\, 2018\n\nThis year\, your $60 Registration for Pilot and Copilot includes:\n\n\n	Seaplane parking at Natural High Thursday-Sunday\n	Wristband for Saturday entry to Natural High Field for both Pilot and Copilot ($10 value)\n	BBQ\, MOVIE & WINE TASTING Saturday for both Pilot and Copilot ($40 value)\n\n\n\nAla carte items: **please preregister for dinners so we can order enough food**\n\n * Friday evening Lincoln BBQ: $25/each\n\n * Saturday evening BBQ\, Movie & Wine Tasting: $20/additional guests\n\n\n\nSaturday gate entry $5/additional guests - please pay at gate\n\n\n\nSplash In kicks off Friday with the Lincoln Barbeque Activities at Natural High on Saturday:\n\n\n	Aerial Demonstrations & Contests\n	LASAR Presentations\n	Seaplanes on display for public viewing\n	Vintage military aircraft\n	Clear Lake Modelers' models and simulator\n	Industry vendors\n	Food & beverage vendors\n\n\n \n \n\nSeaplane Pilots REGISTER HERE\n\n\n\nLand-based pilots register here
X-ALT-DESC;FMTTYPE=text/html:<h2 style="text-align: center\;"><span style="font-size:14px\;"><span style="font-family: arial\;"><span style="color:#3366ff\;"><strong><span style="font-size: 18px\;">Clear Lake Seaplane Splash &amp\; Fly In</span></strong></span></span></span></h2>\n\n<p style="text-align: center\;"><span class="wsite-text wsite-headline-paragraph"><span style="font-size:16px\;"><strong>The oldest and largest seaplane fly-in west of the Mississippi since 1979</strong></span><br />\nSeptember 6-9\, 2018 </span></p>\n<br />\n<span style="font-family:calibri\,sans-serif\;"><span style="font-size:12.0pt\;">Registration is open for the 39<sup>th</sup> annual <strong>Clear Lake Splash &amp\; Fly-In September 8-9\, 2018</strong></span></span><br />\n<span style="font-family:calibri\,sans-serif\;"><span style="font-size:12.0pt\;">This year\, your $60 </span></span><strong><span style="font-size:16px\;"><span style="color:#000000\;"><span style="background-color:#AFEEEE\;">Registration for Pilot and Copilot includes</span></span></span></strong>:\n\n<ul>\n	<li><strong><u><span style="text-transform:uppercase\;"><span style="font-family:calibri\,sans-serif\;"><span style="font-size:12.0pt\;"><span style="background-color:#AFEEEE\;">Seaplane parking</span></span></span></span></u></strong> <span style="font-size:12px\;"><span style="font-family:calibri\,sans-serif\;">at Natural High Thursday-Sunday</span></span></li>\n	<li><strong><u><span style="text-transform:uppercase\;"><span style="font-family:calibri\,sans-serif\;"><span style="font-size:12.0pt\;"><span style="background-color:#AFEEEE\;">Wristband for Saturday entry</span></span></span></span></u></strong><span style="font-family:calibri\,sans-serif\;"><span style="font-size:12.0pt\;"> <span style="font-size:12px\;">to Natural High Field for both Pilot and Copilot ($10 value)</span></span></span></li>\n	<li><strong><u><span style="text-transform:uppercase\;"><span style="font-family:calibri\,sans-serif\;"><span style="font-size:12.0pt\;"><span style="background-color:#AFEEEE\;">BBQ\, MOVIE &amp\; WINE TASTING</span><span style="font-size:12px\;"> </span></span></span></span></u></strong><span style="font-size:12px\;"><span style="font-family:calibri\,sans-serif\;">Saturday for both Pilot and Copilot ($40 value)</span></span></li>\n</ul>\n<br />\n<strong><span style="font-size:14px\;"><span style="background-color:#FFFF00\;">Ala carte</span></span></strong><span style="font-size:12px\;"> items: **<strong>please preregister for dinners</strong> so we can order enough food**</span><br />\n&nbsp\;* <strong><span style="background-color:#FFFF00\;">Friday evening Lincoln BBQ</span></strong>:<span style="font-size:12px\;"> $25/each</span><br />\n&nbsp\;*<strong><span style="background-color:#FFFF00\;"> Saturday evening BBQ\, Movie &amp\; Wine Tasting</span></strong><span style="font-size:12px\;">: $20/additional guests</span><br />\n<br />\n<span style="font-size:14px\;"><strong>Saturday gate entry $5/additional guests - please pay at gate</strong></span><br />\n<br />\n<span style="font-family:arial\;"><span style="font-size: 14px\;"><span title="">Splash In kicks off Friday with the <strong><a href="http://www.clearlakesplashin.com/lincoln-barbecue.html"><span style="color:#3366ff\;">Lincoln Barbeque</span></a></strong></span></span></span> <span style="font-family:calibri\,sans-serif\;">Activities at Natural High on Saturday:</span>\n\n<ul>\n	<li style="margin-top:0in\;"><span style="font-family:calibri\,sans-serif\;"><span style="font-size:12.0pt\;">Aerial Demonstrations &amp\; Contests</span></span></li>\n	<li><span style="font-family:calibri\,sans-serif\;"><span style="font-size:12.0pt\;"><u><a href="http://lasar.com/">LASAR Presentations</a></u></span></span></li>\n	<li><span style="font-family:calibri\,sans-serif\;"><span style="font-size:12.0pt\;">Seaplanes on display for public viewing</span></span></li>\n	<li><span style="font-family:calibri\,sans-serif\;"><span style="font-size:12.0pt\;">Vintage military aircraft</span></span></li>\n	<li><span style="font-family:calibri\,sans-serif\;"><span style="font-size:12.0pt\;"><u><a href="http://www.clearlakemodelers.com/">Clear Lake Modelers</a></u>&#39\; models and simulator</span></span></li>\n	<li><span style="font-family:calibri\,sans-serif\;"><span style="font-size:12.0pt\;">Industry vendors</span></span></li>\n	<li><span style="font-family:calibri\,sans-serif\;"><span style="font-size:12.0pt\;"><span style="font-family:calibri\,sans-serif\;"><span style="font-size:12.0pt\;">Food &amp\; beverage vendors</span></span></span></span></li>\n</ul>\n\n<div style="color: #000000\;">&nbsp\;</div>\n&nbsp\;\n\n<div><span style="font-size:24px\;"><span style="font-family: arial\;"><a href="https://lakecochamber.chambermaster.com/eventregistration/register/5587"><span style="color:#3366ff\;"><span style="background-color: rgb(255\, 255\, 0)\;">Seaplane Pilots REGISTER HERE</span></span></a><br />\n<br />\n<a href="https://lakecochamber.chambermaster.com/eventregistration/register/2740"><span style="color:#3366ff\;"><span style="font-size:14px\;">Land-based pilots register here</span></span></a></span></span></div>\n
LOCATION:Natural High Field 810 N Main St\, Lakeport\, CA
UID:e.2411.5587
SEQUENCE:3
DTSTAMP:20260423T195446Z
URL:https://support.lakecochamber.com/events/details/pilot-registration-for-clear-lake-seaplane-splash-in-celebration-2018-5587
END:VEVENT

END:VCALENDAR
