BEGIN:VCALENDAR
VERSION:2.0
PRODID:-//ChamberMaster//Event Calendar 2.0//EN
METHOD:PUBLISH
X-PUBLISHED-TTL:P3D
REFRESH-INTERVAL:P3D
CALSCALE:GREGORIAN
BEGIN:VEVENT
DTSTART:20260117T033000Z
DTEND:20260117T060000Z
X-MICROSOFT-CDO-ALLDAYEVENT:FALSE
SUMMARY:POP IN / UP DANCE PARTY @ MAC - FREEDOM TO DANCE
DESCRIPTION:Shake off the winter cold and step into rhythmic beats POP IN / UP DANCE PARTY @ MAC FREEDOM TO DANCE - THERE WILL BE BASS Friday\, Jan. 16 | 7:30 10:00 PM DJs Nick\, Scarab\, & Ami spin an informal\, feel-good mix of Reggae\, R&B\, Disco\, House\, Hip Hop and UK Garage\, music to move you\, ground you\, and lift you up. This community dance honors Dr. Martin Luther King Jr. and his message of freedom\, dignity\, and togetherness. By donation for the DJs ($10 suggested) Everyone is welcome. No one turned away for lack of funds. Beverages available for purchase. Come as you are. Dance it out. Let's move together!
X-ALT-DESC;FMTTYPE=text/html:Shake off the winter cold and step into rhythmic beats POP IN / UP DANCE PARTY @ MAC FREEDOM TO DANCE - THERE WILL BE BASS Friday\, Jan. 16 | 7:30&ndash\;10:00 PM DJs Nick\, Scarab\, &amp\; Ami spin an informal\, feel-good mix of Reggae\, R&amp\;B\, Disco\, House\, Hip Hop and UK Garage\, music to move you\, ground you\, and lift you up. This community dance honors Dr. Martin Luther King Jr. and his message of freedom\, dignity\, and togetherness. By donation for the DJs ($10 suggested) Everyone is welcome. No one turned away for lack of funds. Beverages available for purchase. Come as you are. Dance it out. Let&rsquo\;s move together!
LOCATION:21456 State Hwy 175 Middletown\, CA 95461
UID:e.2411.20345
SEQUENCE:3
DTSTAMP:20260421T132049Z
URL:https://support.lakecochamber.com/events/details/pop-in-up-dance-party-mac-freedom-to-dance-20345
END:VEVENT

END:VCALENDAR
