BEGIN:VCALENDAR
VERSION:2.0
PRODID:-//ChamberMaster//Event Calendar 2.0//EN
METHOD:PUBLISH
X-PUBLISHED-TTL:P3D
REFRESH-INTERVAL:P3D
CALSCALE:GREGORIAN
BEGIN:VEVENT
DTSTART:20250712T210000Z
DTEND:20250712T230000Z
X-MICROSOFT-CDO-ALLDAYEVENT:FALSE
SUMMARY:Popcorn Lecture #4
DESCRIPTION:"The Murder of Officer Hellbush" Lecture presented by historian Phil Smoley.
X-ALT-DESC;FMTTYPE=text/html:&quot\;The Murder of Officer Hellbush&quot\; Lecture presented by historian Phil Smoley.
LOCATION:Ely Stage Stop Museum 9921 Soda Bay Road Kelseyville
UID:e.2411.19997
SEQUENCE:3
DTSTAMP:20260421T084115Z
URL:https://support.lakecochamber.com/events/details/popcorn-lecture-4-19997
END:VEVENT

END:VCALENDAR
