BEGIN:VCALENDAR
VERSION:2.0
PRODID:-//ChamberMaster//Event Calendar 2.0//EN
METHOD:PUBLISH
X-PUBLISHED-TTL:P3D
REFRESH-INTERVAL:P3D
CALSCALE:GREGORIAN
BEGIN:VEVENT
DTSTART:20220603T170000Z
DTEND:20220603T190000Z
X-MICROSOFT-CDO-ALLDAYEVENT:FALSE
SUMMARY:Purpose Workshop w/ Fabio Maia
DESCRIPTION:Bees and honey. Rain and Rainbows. Friends and happiness. Some thing naturally go together\, and they exist for a reason: to do something that makes life better.\n\n\n\nIt's their purpose and you have one too! People with purpose are happier\, more successful and they live longer. That means more time to focus on what matters to you. We'll help you pinpoint your purpose and find your way.\n\n\n\nBlue Zones Project
X-ALT-DESC;FMTTYPE=text/html:Bees and honey. Rain and Rainbows. Friends and happiness. Some thing naturally go together\, and they exist for a reason: to do something that makes life better.<br />\n<br />\nIt&#39\;s their purpose and you have one too! People with purpose are happier\, more successful and they live longer. That means more time to focus on what matters to you. We&#39\;ll help you pinpoint your purpose and find your way.<br />\n<br />\n<strong>Blue Zones Project</strong><br />\n<br />\n<br />\n&nbsp\;
LOCATION:Riviera Common Grounds Coffee 9736 Soda Bay Rd Kelseyville
UID:e.2411.14930
SEQUENCE:3
DTSTAMP:20260423T043322Z
URL:https://support.lakecochamber.com/events/details/purpose-workshop-w-fabio-maia-14930
END:VEVENT

END:VCALENDAR
