BEGIN:VCALENDAR
VERSION:2.0
PRODID:-//ChamberMaster//Event Calendar 2.0//EN
METHOD:PUBLISH
X-PUBLISHED-TTL:P3D
REFRESH-INTERVAL:P3D
CALSCALE:GREGORIAN
BEGIN:VEVENT
DTSTART:20251109T040000Z
DTEND:20251109T080000Z
X-MICROSOFT-CDO-ALLDAYEVENT:FALSE
SUMMARY:R November Entertainment
DESCRIPTION:As R Summer Nights comes to an end\, R Entertainment continues INSIDE the RBAR. Enjoy the nonstop vibes and come be a part of the function every Saturday from 8pm - 12am for FREE! This SATURDAY NIGHT we have "Power Play" performing your favorite Dance & Top 40 hits!!! We look forward to seeing you all for another month full of endless fun and music that is good for the soul.
X-ALT-DESC;FMTTYPE=text/html:As R Summer Nights comes to an end\, R Entertainment continues INSIDE the RBAR. Enjoy the nonstop vibes and come be a part of the function every Saturday from 8pm - 12am for FREE! This SATURDAY NIGHT we have &quot\;Power Play&quot\; performing your favorite Dance &amp\; Top 40 hits!!! We look forward to seeing you all for another month full of endless fun and music that is good for the soul.
LOCATION:1545 CA-20\, Nice\, CA 95464 (In the RBAR)
UID:e.2411.20252
SEQUENCE:3
DTSTAMP:20260421T085042Z
URL:https://support.lakecochamber.com/events/details/r-november-entertainment-11-08-2025-20252
END:VEVENT

END:VCALENDAR
