BEGIN:VCALENDAR
VERSION:2.0
PRODID:-//ChamberMaster//Event Calendar 2.0//EN
METHOD:PUBLISH
X-PUBLISHED-TTL:P3D
REFRESH-INTERVAL:P3D
CALSCALE:GREGORIAN
BEGIN:VEVENT
DTSTART:20251130T040000Z
DTEND:20251130T080000Z
X-MICROSOFT-CDO-ALLDAYEVENT:FALSE
SUMMARY:R November Entertainment
DESCRIPTION:As R Summer Nights comes to an end\, R Entertainment continues INSIDE the RBAR. Enjoy the nonstop vibes and come be a part of the function every Saturday from 8pm - 12am for FREE! This SATURADY NIGHT we have ""Superbad" performing your favorite ROCK hits!!! We look forward to seeing you all for another month full of endless fun and music that is good for the soul.
X-ALT-DESC;FMTTYPE=text/html:As R Summer Nights comes to an end\, R Entertainment continues INSIDE the RBAR. Enjoy the nonstop vibes and come be a part of the function every Saturday from 8pm - 12am for FREE! This SATURADY NIGHT we have &quot\;&quot\;Superbad&quot\; performing your favorite ROCK hits!!! We look forward to seeing you all for another month full of endless fun and music that is good for the soul.
LOCATION:1545 CA-20\, Nice\, CA 95464 (In the RBAR)
UID:e.2411.20251
SEQUENCE:3
DTSTAMP:20260421T085127Z
URL:https://support.lakecochamber.com/events/details/r-november-entertainment-11-29-2025-20251
END:VEVENT

END:VCALENDAR
