BEGIN:VCALENDAR
VERSION:2.0
PRODID:-//ChamberMaster//Event Calendar 2.0//EN
METHOD:PUBLISH
X-PUBLISHED-TTL:P3D
REFRESH-INTERVAL:P3D
CALSCALE:GREGORIAN
BEGIN:VEVENT
DTSTART:20220417T010000Z
DTEND:20220417T030000Z
X-MICROSOFT-CDO-ALLDAYEVENT:FALSE
SUMMARY:Randy Hood Plays at Blue Wing Supper Service
DESCRIPTION:The Blue Wing is open from 12 to 8 PM Thursdays through Mondays with a 10:30 start for Sunday Brunch.  Seating is in the garden in good weather\, out on the heated veranda or at our well-spaced indoor tables.  We have taken extra ventilation\, distancing and hygienic precautions due to the Covid issue.  Reservations and take-out orders can be made at 707-275-2233. Take-out orders can also be placed on-line at the MENU PAGE of the Blue Wing Saloon web site.\n\nLocal musicians play from 6 to 8 PM most evenings  on the Hotel veranda in good weather or at a safe distance by the bar otherwise. Tonight we feature the fine guitarist and vocalist RANDY HOOD.
X-ALT-DESC;FMTTYPE=text/html:<p>The Blue Wing is open from 12 to 8 PM Thursdays through Mondays with a 10:30 start for Sunday Brunch.&nbsp\; Seating is in the garden in good weather\, out on the heated veranda or at our well-spaced indoor tables.&nbsp\; We have taken extra ventilation\, distancing and hygienic precautions due to the Covid issue.&nbsp\; Reservations and take-out orders can be made at 707-275-2233. Take-out orders can also be placed on-line at the&nbsp\;<strong><a href="https://tallmanhotel.com/restaurant/food-and-wine-menu/">MENU&nbsp\;</a><a href="https://tallmanhotel.com/restaurant/food-and-wine-menu/">PAGE&nbsp\;</a></strong>of the Blue Wing Saloon web site.</p>\n\n<p>Local musicians play from 6 to 8 PM most evenings&nbsp\; on the Hotel veranda in good weather or at a safe distance by the bar otherwise. Tonight we feature the fine guitarist and vocalist RANDY HOOD.</p>\n
LOCATION:
UID:e.2411.13985
SEQUENCE:3
DTSTAMP:20260423T214307Z
URL:https://support.lakecochamber.com/events/details/randy-hood-plays-at-blue-wing-supper-service-13985
END:VEVENT

END:VCALENDAR
