BEGIN:VCALENDAR
VERSION:2.0
PRODID:-//ChamberMaster//Event Calendar 2.0//EN
METHOD:PUBLISH
X-PUBLISHED-TTL:P3D
REFRESH-INTERVAL:P3D
CALSCALE:GREGORIAN
BEGIN:VEVENT
DTSTART:20260314T190000Z
DTEND:20260314T230000Z
X-MICROSOFT-CDO-ALLDAYEVENT:FALSE
SUMMARY:Reserve Tasting
DESCRIPTION:Join us at 12pm or 2pm for a reserve tasting of five wines and complimentary food pairing experience! The Equinox Duo will be adding beautiful live music to your experience. $35/member and $50/guest ($10 deposit per guest due at time of reservation)
X-ALT-DESC;FMTTYPE=text/html:Join us at 12pm or 2pm for a reserve tasting of five wines and complimentary food pairing experience! The Equinox Duo will be adding beautiful live music to your experience. $35/member and $50/guest ($10 deposit per guest due at time of reservation)
LOCATION:13372 Spruce Grove Rd Lower Lake\, CA 95457
UID:e.2411.20307
SEQUENCE:3
DTSTAMP:20260425T142134Z
URL:https://support.lakecochamber.com/events/details/reserve-tasting-03-14-2026-20307
END:VEVENT

END:VCALENDAR
