BEGIN:VCALENDAR
VERSION:2.0
PRODID:-//ChamberMaster//Event Calendar 2.0//EN
METHOD:PUBLISH
X-PUBLISHED-TTL:P3D
REFRESH-INTERVAL:P3D
CALSCALE:GREGORIAN
BEGIN:VEVENT
DTSTART;VALUE=DATE:20230130
DTEND;VALUE=DATE:20230131
TRANSP:TRANSPARENT
X-MICROSOFT-CDO-ALLDAYEVENT:TRUE
SUMMARY:Restaurant Expo
DESCRIPTION:Please see website link for more information! \n\nhttps://www.lakecountycaedc.org/restaurant-expo/
X-ALT-DESC;FMTTYPE=text/html:Please see website link for more information!&nbsp\;<br />\nhttps://www.lakecountycaedc.org/restaurant-expo/
LOCATION:
UID:e.2411.15734
SEQUENCE:3
DTSTAMP:20260425T023154Z
URL:https://support.lakecochamber.com/events/details/restaurant-expo-15734
END:VEVENT

END:VCALENDAR
