BEGIN:VCALENDAR
VERSION:2.0
PRODID:-//ChamberMaster//Event Calendar 2.0//EN
METHOD:PUBLISH
X-PUBLISHED-TTL:P3D
REFRESH-INTERVAL:P3D
CALSCALE:GREGORIAN
BEGIN:VEVENT
DTSTART:20220407T230000Z
DTEND:20220408T010000Z
X-MICROSOFT-CDO-ALLDAYEVENT:FALSE
SUMMARY:Ribbon Cutting at Kind Lending
DESCRIPTION:Invitaion Only
X-ALT-DESC;FMTTYPE=text/html:Invitaion Only
LOCATION:370 N. Main St Suite 270 Lakeport
UID:e.2411.14260
SEQUENCE:3
DTSTAMP:20260423T182402Z
URL:https://support.lakecochamber.com/events/details/ribbon-cutting-at-kind-lending-14260
END:VEVENT

END:VCALENDAR
