BEGIN:VCALENDAR
VERSION:2.0
PRODID:-//ChamberMaster//Event Calendar 2.0//EN
METHOD:PUBLISH
X-PUBLISHED-TTL:P3D
REFRESH-INTERVAL:P3D
CALSCALE:GREGORIAN
BEGIN:VEVENT
DTSTART:20180707T153000Z
DTEND:20180707T190000Z
X-MICROSOFT-CDO-ALLDAYEVENT:FALSE
SUMMARY:Saturday Farmers Market at Steele Wines
DESCRIPTION:Farmers Finest's Saturday morning Farmers' market at Steele Wines near Finley brings you fresh produce\, great food\, live music and beautiful crafts every week - rain or shine!\n\nEvery Saturday morning May 5th - Oct 27th from 8:30 am to noon
X-ALT-DESC;FMTTYPE=text/html:Farmers Finest&#39\;s Saturday morning Farmers&#39\; market at Steele Wines near Finley brings you fresh produce\, great food\, live music and beautiful crafts every week - rain or shine!<br />\nEvery Saturday morning May 5th - Oct 27th from 8:30 am to noon
LOCATION:4350 Thomas Drive\, between Lakeport and Kelseyville
UID:e.2411.5466
SEQUENCE:3
DTSTAMP:20260423T195850Z
URL:https://support.lakecochamber.com/events/details/saturday-farmers-market-at-steele-wines-07-07-2018-5466
END:VEVENT

END:VCALENDAR
