BEGIN:VCALENDAR
VERSION:2.0
PRODID:-//ChamberMaster//Event Calendar 2.0//EN
METHOD:PUBLISH
X-PUBLISHED-TTL:P3D
REFRESH-INTERVAL:P3D
CALSCALE:GREGORIAN
BEGIN:VEVENT
DTSTART:20220731T020000Z
DTEND:20220731T040000Z
X-MICROSOFT-CDO-ALLDAYEVENT:FALSE
SUMMARY:Shakespeare at the Lake: Twelfth Night
DESCRIPTION:Mendocino College and the Lake County Theatre Company proudly present the 7th annual Shakespeare at the Lake. This year's production is Twelfth Night and is generously supported by the Lake County Friends of Mendocino College and the City of Lakeport.
X-ALT-DESC;FMTTYPE=text/html:Mendocino College and the Lake County Theatre Company proudly present the 7th annual Shakespeare at the Lake. This year&#39\;s production is Twelfth Night and is generously supported by the Lake County Friends of Mendocino College and the City of Lakeport.
LOCATION:Library Park\, Lakeport
UID:e.2411.15140
SEQUENCE:3
DTSTAMP:20260424T171239Z
URL:https://support.lakecochamber.com/events/details/shakespeare-at-the-lake-twelfth-night-15140
END:VEVENT

END:VCALENDAR
