BEGIN:VCALENDAR
VERSION:2.0
PRODID:-//ChamberMaster//Event Calendar 2.0//EN
METHOD:PUBLISH
X-PUBLISHED-TTL:P3D
REFRESH-INTERVAL:P3D
CALSCALE:GREGORIAN
BEGIN:VEVENT
DTSTART:20220910T143000Z
DTEND:20220910T190000Z
X-MICROSOFT-CDO-ALLDAYEVENT:FALSE
SUMMARY:Soap Box Derby
DESCRIPTION:You don't want to miss this exciting race! Who will be named this year's winner? Build your car and join in on the racing fun.
X-ALT-DESC;FMTTYPE=text/html:<span style="font-family:arial\;"><span style="font-size:14px\;"><span style="color: rgb(5\, 5\, 5)\;">You don&#39\;t want to miss this exciting race! Who will be named this year&#39\;s winner?</span> Build your car and join in on the racing fun.</span></span>
LOCATION:Dam Road Extension
UID:e.2411.15415
SEQUENCE:3
DTSTAMP:20260424T121242Z
URL:https://support.lakecochamber.com/events/details/soap-box-derby-15415
END:VEVENT

END:VCALENDAR
