BEGIN:VCALENDAR
VERSION:2.0
PRODID:-//ChamberMaster//Event Calendar 2.0//EN
METHOD:PUBLISH
X-PUBLISHED-TTL:P3D
REFRESH-INTERVAL:P3D
CALSCALE:GREGORIAN
BEGIN:VEVENT
DTSTART:20221001T153000Z
DTEND:20221001T190000Z
X-MICROSOFT-CDO-ALLDAYEVENT:FALSE
SUMMARY:Sponsoring Survivorship Annual Walk/Run
DESCRIPTION:Registration starts at 7am with an inspiring pre-walk/run program. Walk/Run at 9am. All proceeds benefit Lake County residents with costs to battle breast cancer.
X-ALT-DESC;FMTTYPE=text/html:Registration starts at 7am with an inspiring pre-walk/run program. Walk/Run at 9am. All proceeds benefit Lake County residents with costs to battle breast cancer.
LOCATION:Silveira Community Center (formerly Bank of America) on Main Street in Lakeport
UID:e.2411.15428
SEQUENCE:3
DTSTAMP:20260424T133117Z
URL:https://support.lakecochamber.com/events/details/sponsoring-survivorship-annual-walk-run-15428
END:VEVENT

END:VCALENDAR
