BEGIN:VCALENDAR
VERSION:2.0
PRODID:-//ChamberMaster//Event Calendar 2.0//EN
METHOD:PUBLISH
X-PUBLISHED-TTL:P3D
REFRESH-INTERVAL:P3D
CALSCALE:GREGORIAN
BEGIN:VEVENT
DTSTART:20251004T153000Z
DTEND:20251004T170000Z
X-MICROSOFT-CDO-ALLDAYEVENT:FALSE
SUMMARY:Sponsoring Survivorship Run/Walk
DESCRIPTION:Annual fundraiser to help women an men in their battle against breast cancer. To relieve their financial burden.
X-ALT-DESC;FMTTYPE=text/html:Annual fundraiser to help women an men in their battle against breast cancer. To relieve their financial burden. 
LOCATION:Xabatin Community Park
UID:e.2411.20121
SEQUENCE:3
DTSTAMP:20260421T085026Z
URL:https://support.lakecochamber.com/events/details/sponsoring-survivorship-run-walk-10-04-2025-20121
END:VEVENT

END:VCALENDAR
