BEGIN:VCALENDAR
VERSION:2.0
PRODID:-//ChamberMaster//Event Calendar 2.0//EN
METHOD:PUBLISH
X-PUBLISHED-TTL:P3D
REFRESH-INTERVAL:P3D
CALSCALE:GREGORIAN
BEGIN:VEVENT
DTSTART:20220318T000000Z
DTEND:20220318T040000Z
X-MICROSOFT-CDO-ALLDAYEVENT:FALSE
SUMMARY:St. Patty’s Day Corned Beef & Cabbage at Wine in the Willows
DESCRIPTION:Come for the traditional corned beef and cabbage\, or order off of our Italian Menu!!
X-ALT-DESC;FMTTYPE=text/html:Come for the traditional corned beef and cabbage\, or order off of our Italian Menu!!
LOCATION:Wine in the Willows Address 125 Park Street\, Lakeport
UID:e.2411.14002
SEQUENCE:3
DTSTAMP:20260425T234118Z
URL:https://support.lakecochamber.com/events/details/st-patty-s-day-corned-beef-cabbage-at-wine-in-the-willows-14002
END:VEVENT

END:VCALENDAR
