BEGIN:VCALENDAR
VERSION:2.0
PRODID:-//ChamberMaster//Event Calendar 2.0//EN
METHOD:PUBLISH
X-PUBLISHED-TTL:P3D
REFRESH-INTERVAL:P3D
CALSCALE:GREGORIAN
BEGIN:VEVENT
DTSTART:20220910T180000Z
DTEND:20220910T210000Z
X-MICROSOFT-CDO-ALLDAYEVENT:FALSE
SUMMARY:Story Walk
DESCRIPTION:All ages welcome read a story together on the storywalk trail
X-ALT-DESC;FMTTYPE=text/html:All ages welcome read a story together on the storywalk trail<br />\n&nbsp\;
LOCATION:Clear Lake State Park 5300 Soda Bay Road Kelseyville Ca.
UID:e.2411.15504
SEQUENCE:3
DTSTAMP:20260424T142600Z
URL:https://support.lakecochamber.com/events/details/story-walk-15504
END:VEVENT

END:VCALENDAR
