BEGIN:VCALENDAR
VERSION:2.0
PRODID:-//ChamberMaster//Event Calendar 2.0//EN
METHOD:PUBLISH
X-PUBLISHED-TTL:P3D
REFRESH-INTERVAL:P3D
CALSCALE:GREGORIAN
BEGIN:VEVENT
DTSTART:20220625T180000Z
DTEND:20220625T210000Z
X-MICROSOFT-CDO-ALLDAYEVENT:FALSE
SUMMARY:Summer Kickoff Classic Car Show
DESCRIPTION:Mountain View's First Annual Summer Kickoff Classic Car Show Fundraiser All Proceeds go towards Alzheimer's Association BBQ Lunch $5.00 Raffles Prizes\, Live DJ\, Classic Cars\, and vendors. Come help us spread joy and smiles\, mingle with our seniors\, staff\, and families. All while raising money for a good cause\, that affects so many Adults and senior in our community. We are still looking for Classic Cars and vendors for this event. Please reach out to Jeannette at 707-365-3547 for details on how to be a part of this great event. Community members and businesses are encouraged to donate baskets and items for the raffle.
X-ALT-DESC;FMTTYPE=text/html:Mountain View&#39\;s First Annual Summer Kickoff Classic Car Show Fundraiser All Proceeds go towards Alzheimer&#39\;s Association BBQ Lunch $5.00 Raffles Prizes\, Live DJ\, Classic Cars\, and vendors. Come help us spread joy and smiles\, mingle with our seniors\, staff\, and families. All while raising money for a good cause\, that affects so many Adults and senior in our community. We are still looking for Classic Cars and vendors for this event. Please reach out to Jeannette at 707-365-3547 for details on how to be a part of this great event. Community members and businesses are encouraged to donate baskets and items for the raffle.
LOCATION:Mountain View Assisted Living & Memory Care 1343 S. Dora st. Ukiah
UID:e.2411.15061
SEQUENCE:3
DTSTAMP:20260424T131743Z
URL:https://support.lakecochamber.com/events/details/summer-kickoff-classic-car-show-15061
END:VEVENT

END:VCALENDAR
