BEGIN:VCALENDAR
VERSION:2.0
PRODID:-//ChamberMaster//Event Calendar 2.0//EN
METHOD:PUBLISH
X-PUBLISHED-TTL:P3D
REFRESH-INTERVAL:P3D
CALSCALE:GREGORIAN
BEGIN:VEVENT
DTSTART:20230625T010000Z
DTEND:20230625T050000Z
X-MICROSOFT-CDO-ALLDAYEVENT:FALSE
SUMMARY:Summer Solstice Dinner\, A Night To Remember
DESCRIPTION:The Mount Family invites you to celebrate the Summer Solstice with an unforgettable evening at our beautiful hillside Estate in the Red Hills. Featuring brand-new releases\, very special Reserve wines\, barrel samples\, and welcoming a culinary powerhouse to Lake County\, this is sure to be an event to remember. Over the years\, Lake County has quietly remained one of California's best-kept secrets. Proprietor\, Madi Mount\, and her husband of 54 years\, Bob\, fell in love with the dramatic landscapes and rugged charm of this rebellious region. Join us as we highlight their triumph in establishing Lake County's most inspiring winery. Your evening will begin in our showroom where you will be greeted by stunning views of Mount Konocti and an exclusive barrel tasting experience. From there\, a short stroll to the Mount Residence and welcomed by Madi herself\, to enjoy our signature Bubbles. Panoramic sunset views will be joined by passed appetizers before sitting down for a seasonal\, three-course menu prepared by Travel Creel Hospitality\, owned and operated by Napa Valley Chef\, Joshua Schwartz. Secure your reservation today. Seating is extremely limited. Dietary restrictions can be accommodated with advanced notice of at least 72 hours prior to the event date. Hotel & accommodation packages are limited\, but available. Please contact jj@boatiquewines.com for more details. We can't wait to share this with you.
X-ALT-DESC;FMTTYPE=text/html:The Mount Family invites you to celebrate the Summer Solstice with an unforgettable evening at our beautiful hillside Estate in the Red Hills. Featuring brand-new releases\, very special Reserve wines\, barrel samples\, and welcoming a culinary powerhouse to Lake County\, this is sure to be an event to remember. Over the years\, Lake County has quietly remained one of California&rsquo\;s best-kept secrets. Proprietor\, Madi Mount\, and her husband of 54 years\, Bob\, fell in love with the dramatic landscapes and rugged charm of this rebellious region. Join us as we highlight their triumph in establishing Lake County&rsquo\;s most inspiring winery. Your evening will begin in our showroom where you will be greeted by stunning views of Mount Konocti and an exclusive barrel tasting experience. From there\, a short stroll to the Mount Residence and welcomed by Madi herself\, to enjoy our signature Bubbles. Panoramic sunset views will be joined by passed appetizers before sitting down for a seasonal\, three-course menu prepared by Travel Creel Hospitality\, owned and operated by Napa Valley Chef\, Joshua Schwartz. Secure your reservation today. Seating is extremely limited. Dietary restrictions can be accommodated with advanced notice of at least 72 hours prior to the event date. Hotel &amp\; accommodation packages are limited\, but available. Please contact jj@boatiquewines.com for more details. We can&rsquo\;t wait to share this with you.
LOCATION:Boatique Winery 8255 Red Hills Road Kelseyville\, CA 95451
UID:e.2411.17624
SEQUENCE:3
DTSTAMP:20260425T182514Z
URL:https://support.lakecochamber.com/events/details/summer-solstice-dinner-a-night-to-remember-17624
END:VEVENT

END:VCALENDAR
