BEGIN:VCALENDAR
VERSION:2.0
PRODID:-//ChamberMaster//Event Calendar 2.0//EN
METHOD:PUBLISH
X-PUBLISHED-TTL:P3D
REFRESH-INTERVAL:P3D
CALSCALE:GREGORIAN
BEGIN:VEVENT
DTSTART:20220604T170000Z
DTEND:20220605T000000Z
X-MICROSOFT-CDO-ALLDAYEVENT:FALSE
SUMMARY:Support Our Troops
DESCRIPTION:Join us at Linda's Hallmark for a fun day of raffles\, shopping and supporting America's military heroes! Bring a donation for Operation Tango Mike care packages and receive a special shopping discount!
X-ALT-DESC;FMTTYPE=text/html:Join us at Linda&#39\;s Hallmark for a fun day of raffles\, shopping and supporting America&#39\;s military heroes! Bring a donation for Operation Tango Mike care packages and receive a special shopping discount!
LOCATION:Linda's Hallmark & Gift Gallery 991 11th Street\, Lakeport
UID:e.2411.14431
SEQUENCE:3
DTSTAMP:20260423T065057Z
URL:https://support.lakecochamber.com/events/details/support-our-troops-14431
END:VEVENT

END:VCALENDAR
