BEGIN:VCALENDAR
VERSION:2.0
PRODID:-//ChamberMaster//Event Calendar 2.0//EN
METHOD:PUBLISH
X-PUBLISHED-TTL:P3D
REFRESH-INTERVAL:P3D
CALSCALE:GREGORIAN
BEGIN:VEVENT
DTSTART:20220521T230000Z
DTEND:20220522T000000Z
X-MICROSOFT-CDO-ALLDAYEVENT:FALSE
SUMMARY:Tea & Poetry at Studio 127
DESCRIPTION:Join Lake County Poet Laureate Georgina Marie for Tea & Poetry at Studio 127! Tea & Poetry is open to everyone\, whether you're new to poetry or an experienced writer\, a fan of reading poetry\, or a complete beginner to any creative writing. Participants are invited to bring a meaningful item to add to an alter and/or a favorite poem to share\, and pen and paper to free-write from prompts offered to the group. Participants will choose a loose-leaf tea from the studio's varied selection to enjoy while reading and writing. A suggested donation of $10 is requested however no one is turned away due to lack of funds. Seating is limited to 8 spaces. Visit Studio 127 online at https://thestudio127.com/ and Guardado's website at https://www.georginamariepoet.com/.
X-ALT-DESC;FMTTYPE=text/html:Join Lake County Poet Laureate Georgina Marie for Tea &amp\; Poetry at Studio 127! Tea &amp\; Poetry is open to everyone\, whether you&rsquo\;re new to poetry or an experienced writer\, a fan of reading poetry\, or a complete beginner to any creative writing. Participants are invited to bring a meaningful item to add to an alter and/or a favorite poem to share\, and pen and paper to free-write from prompts offered to the group. Participants will choose a loose-leaf tea from the studio&rsquo\;s varied selection to enjoy while reading and writing. A suggested donation of $10 is requested however no one is turned away due to lack of funds. Seating is limited to 8 spaces. Visit Studio 127 online at https://thestudio127.com/ and Guardado&rsquo\;s website at https://www.georginamariepoet.com/.
LOCATION:Studio 127 127 N. Main St. Lakeport\, CA
UID:e.2411.14696
SEQUENCE:3
DTSTAMP:20260424T045519Z
URL:https://support.lakecochamber.com/events/details/tea-poetry-at-studio-127-14696
END:VEVENT

END:VCALENDAR
