BEGIN:VCALENDAR
VERSION:2.0
PRODID:-//ChamberMaster//Event Calendar 2.0//EN
METHOD:PUBLISH
X-PUBLISHED-TTL:P3D
REFRESH-INTERVAL:P3D
CALSCALE:GREGORIAN
BEGIN:VEVENT
DTSTART:20191128T190000Z
DTEND:20191129T010000Z
X-MICROSOFT-CDO-ALLDAYEVENT:FALSE
SUMMARY:Thanksgiving Day Buffet
DESCRIPTION:All You Can Eat Buffet Oven Roasted Turkey Breast & Gravy Vegetable Stuffing   Mixed Green Salad Roasted Garlic Mashed Potatoes   Saut ed Green Beans Old Fashioned Cranberry Sauce   Croissants & Butter Pumpkin Pie Coffee\, Tea\, Soda Adults: $24.95 Children (5-12): $14.95   Children (under 5): FREE Vegetarian (no gobble): $14.95 Tax\, Tip\, Alcoholic Beverages not included Advanced Reservations Recommended Take-Out & Pre-Orders Available
X-ALT-DESC;FMTTYPE=text/html:All You Can Eat Buffet Oven Roasted Turkey Breast &amp\; Gravy Vegetable Stuffing &bull\; Mixed Green Salad Roasted Garlic Mashed Potatoes &bull\; Saut&eacute\;ed Green Beans Old Fashioned Cranberry Sauce &bull\; Croissants &amp\; Butter Pumpkin Pie Coffee\, Tea\, Soda Adults: $24.95 Children (5-12): $14.95 &bull\; Children (under 5): FREE Vegetarian (no gobble): $14.95 Tax\, Tip\, Alcoholic Beverages not included Advanced Reservations Recommended Take-Out &amp\; Pre-Orders Available
LOCATION:Greenview Restaurant\, Hidden Valley Lake
UID:e.2411.8580
SEQUENCE:3
DTSTAMP:20260423T212535Z
URL:https://support.lakecochamber.com/events/details/thanksgiving-day-buffet-8580
END:VEVENT

END:VCALENDAR
