BEGIN:VCALENDAR
VERSION:2.0
PRODID:-//ChamberMaster//Event Calendar 2.0//EN
METHOD:PUBLISH
X-PUBLISHED-TTL:P3D
REFRESH-INTERVAL:P3D
CALSCALE:GREGORIAN
BEGIN:VEVENT
DTSTART:20161119T030000Z
DTEND:20161119T070000Z
X-MICROSOFT-CDO-ALLDAYEVENT:FALSE
SUMMARY:The LaLas Burlesque Show at Twin Pine Casino
DESCRIPTION:The Lalas was created by celebrity choreographer Erin Lamont\, and features THE most elite working female professional dancers working in the film and entertainment industry in Los Angeles. The Lalas tour the globe performing custom\, comedic\, audience interactive burlesque shows. By day\, you can see The Lalas on any hit TV show\, film\, or on tour with your favorite artist. From Glee to the People's Choice Awards\, The Voice\, Tosh.0\, The Fosters\, Lifetime Network\, Idol\, on Tour with Wicked\, you name it! Don't know what burlesque is? Never seen a show? NO PROBLEM. The Lalas are here to educate you! The Lalas perform a 75 minute burlesque show\, and each performance is one of a kind\; perfect for date night\, bachelorette parties\, birthday celebrations\, you name it! We've even had couples celebrate their 50th wedding anniversary with tickets to our show. So come check out a show\, sit at the edge of your seat\, bring your mom (really   she'll love it!) and grab a cocktail. Be prepared to laugh til you're in stitches and drop your jaw\, as you watch the world's most in demand burlesque show take the stage in a city near you.
X-ALT-DESC;FMTTYPE=text/html:The Lalas was created by celebrity choreographer Erin Lamont\, and features THE most elite working female professional dancers working in the film and entertainment industry in Los Angeles. The Lalas tour the globe performing custom\, comedic\, audience interactive burlesque shows. By day\, you can see The Lalas on any hit TV show\, film\, or on tour with your favorite artist. From Glee to the People&#39\;s Choice Awards\, The Voice\, Tosh.0\, The Fosters\, Lifetime Network\, Idol\, on Tour with Wicked\, you name it! Don&rsquo\;t know what burlesque is? Never seen a show? NO PROBLEM. The Lalas are here to educate you! The Lalas perform a 75 minute burlesque show\, and each performance is one of a kind\; perfect for date night\, bachelorette parties\, birthday celebrations\, you name it! We&rsquo\;ve even had couples celebrate their 50th wedding anniversary with tickets to our show. So come check out a show\, sit at the edge of your seat\, bring your mom (really &ndash\; she&rsquo\;ll love it!) and grab a cocktail. Be prepared to laugh til you&rsquo\;re in stitches and drop your jaw\, as you watch the world&rsquo\;s most in demand burlesque show take the stage in a city near you.
LOCATION:Twin Pine Casino & Hotel\, 22223 Hwy 29 @ Rancheria Rd. Middletown
UID:e.2411.1957
SEQUENCE:3
DTSTAMP:20260424T224755Z
URL:https://support.lakecochamber.com/events/details/the-lalas-burlesque-show-at-twin-pine-casino-1957
END:VEVENT

END:VCALENDAR
