BEGIN:VCALENDAR
VERSION:2.0
PRODID:-//ChamberMaster//Event Calendar 2.0//EN
METHOD:PUBLISH
X-PUBLISHED-TTL:P3D
REFRESH-INTERVAL:P3D
CALSCALE:GREGORIAN
BEGIN:VEVENT
DTSTART:20221117T194500Z
DTEND:20221117T210000Z
X-MICROSOFT-CDO-ALLDAYEVENT:FALSE
SUMMARY:The Lunch Bunch (networking event)
DESCRIPTION:Come join the Lunch Bunch and network with fellow Lake County business members.\n\nBuffet style service of Caesar Salad with Sliced Chicken or Sirloin\, fresh bread\, ice tea\, and lemonade.
X-ALT-DESC;FMTTYPE=text/html:<span style="font-size:16px\;"><span style="font-family:arial\;">Come join the Lunch Bunch and network with fellow Lake County business members.<br />\nBuffet style service of Caesar Salad with Sliced Chicken or Sirloin\, fresh bread\, ice tea\, and lemonade.</span></span><br />\n&nbsp\;
LOCATION:Blue Wing Saloon 9520 Main St Upper Lake
UID:e.2411.14373
SEQUENCE:3
DTSTAMP:20260424T152409Z
URL:https://support.lakecochamber.com/events/details/the-lunch-bunch-networking-event-11-17-2022-14373
END:VEVENT

END:VCALENDAR
