BEGIN:VCALENDAR
VERSION:2.0
PRODID:-//ChamberMaster//Event Calendar 2.0//EN
METHOD:PUBLISH
X-PUBLISHED-TTL:P3D
REFRESH-INTERVAL:P3D
CALSCALE:GREGORIAN
BEGIN:VEVENT
DTSTART:20190924T200000Z
DTEND:20190924T220000Z
X-MICROSOFT-CDO-ALLDAYEVENT:FALSE
SUMMARY:The Miracle Worker
DESCRIPTION:Arthur Penn directed this tense and riveting 1962 film version of William Gibson's play about Helen Keller (Patty Duke)\, a blind and deaf adolescent whose increasingly wild\, angry behavior causes her desperate parents to hire teacher Anne Sullivan (Anne Bancroft) whose methods are forceful and unusual. Bancroft and Duke both won Academy Awards for their startling\, physical performances. Not rated. Run time is 1 hour and 47 minutes. Donations gratefully accepted at the door. Tickets not available online. Assistive Listening devices are available.
X-ALT-DESC;FMTTYPE=text/html:Arthur Penn directed this tense and riveting 1962 film version of William Gibson&rsquo\;s play about Helen Keller (Patty Duke)\, a blind and deaf adolescent whose increasingly wild\, angry behavior causes her desperate parents to hire teacher Anne Sullivan (Anne Bancroft) whose methods are forceful and unusual. Bancroft and Duke both won Academy Awards for their startling\, physical performances. Not rated. Run time is 1 hour and 47 minutes. Donations gratefully accepted at the door. Tickets not available online. Assistive Listening devices are available.
LOCATION:Soper Reese Theatre
UID:e.2411.8311
SEQUENCE:3
DTSTAMP:20260423T184910Z
URL:https://support.lakecochamber.com/events/details/the-miracle-worker-8311
END:VEVENT

END:VCALENDAR
