BEGIN:VCALENDAR
VERSION:2.0
PRODID:-//ChamberMaster//Event Calendar 2.0//EN
METHOD:PUBLISH
X-PUBLISHED-TTL:P3D
REFRESH-INTERVAL:P3D
CALSCALE:GREGORIAN
BEGIN:VEVENT
DTSTART:20221103T230000Z
DTEND:20221104T040000Z
X-MICROSOFT-CDO-ALLDAYEVENT:FALSE
SUMMARY:Thirsty Thursday Live
DESCRIPTION:Live Music from Beatz Werkin! Food Truck by Bad Ass BLT's! Award Winning Wine by the Glass and Bottle!
X-ALT-DESC;FMTTYPE=text/html:Live Music from Beatz Werkin! Food Truck by Bad Ass BLT&#39\;s! Award Winning Wine by the Glass and Bottle!
LOCATION:Fults Family Vineyards 11441 Hwy 29 Lower Lake\, CA 95457
UID:e.2411.15556
SEQUENCE:3
DTSTAMP:20260424T103741Z
URL:https://support.lakecochamber.com/events/details/thirsty-thursday-live-11-03-2022-15556
END:VEVENT

END:VCALENDAR
