BEGIN:VCALENDAR
VERSION:2.0
PRODID:-//ChamberMaster//Event Calendar 2.0//EN
METHOD:PUBLISH
X-PUBLISHED-TTL:P3D
REFRESH-INTERVAL:P3D
CALSCALE:GREGORIAN
BEGIN:VEVENT
DTSTART:20190907T040000Z
DTEND:20190907T065500Z
X-MICROSOFT-CDO-ALLDAYEVENT:FALSE
SUMMARY:Thunder Cover
DESCRIPTION:THUNDER COVER Friday & Saturday September 6th & 7th 9:00 pm 1:30 am Thunder Cover   Northern California's best new cover band. Thunder Cover hails from Sacramento\, CA and they play some of the biggest hits in music from the last 50 years of Rock\, Pop\, and Dance. Their special acoustic set features 3 of the main band's members: Laith Kaos\, Skyler Michael\, and Alex Vincent. Their goal is to make you sing-a-long to the songs of your past.
X-ALT-DESC;FMTTYPE=text/html:THUNDER COVER Friday &amp\; Saturday September 6th &amp\; 7th 9:00 pm&ndash\;1:30 am Thunder Cover &ndash\; Northern California&rsquo\;s best new cover band. Thunder Cover hails from Sacramento\, CA and they play some of the biggest hits in music from the last 50 years of Rock\, Pop\, and Dance. Their special acoustic set features 3 of the main band&rsquo\;s members: Laith Kaos\, Skyler Michael\, and Alex Vincent. Their goal is to make you sing-a-long to the songs of your past.
LOCATION:Twin Pine Casino & Hotel 22223 Hwy 29 Middletown\, Ca. 95461
UID:e.2411.8380
SEQUENCE:3
DTSTAMP:20260425T005844Z
URL:https://support.lakecochamber.com/events/details/thunder-cover-09-06-2019-8380
END:VEVENT

END:VCALENDAR
