BEGIN:VCALENDAR
VERSION:2.0
PRODID:-//ChamberMaster//Event Calendar 2.0//EN
METHOD:PUBLISH
X-PUBLISHED-TTL:P3D
REFRESH-INTERVAL:P3D
CALSCALE:GREGORIAN
BEGIN:VEVENT
DTSTART:20220306T000000Z
DTEND:20220306T020000Z
X-MICROSOFT-CDO-ALLDAYEVENT:FALSE
SUMMARY:Traditional Ecological Knowledge (TEK) and Fire Management Panel Discussion on Zoom
DESCRIPTION:There is much to learn and put to practice from TEK\, to live more sustainably in a region where fire is part of life. TEK is based on 20\,000 years of place-based indigenous knowledge of local ecosystems and watersheds. This event was previously scheduled for February 26\, 2022 and due to unforeseen circumstances has been rescheduled for March 5 from 4-6pm. If you have already registered\, the same Zoom link will work.
X-ALT-DESC;FMTTYPE=text/html:There is much to learn and put to practice from TEK\, to live more sustainably in a region where fire is part of life. TEK is based on 20\,000 years of place-based indigenous knowledge of local ecosystems and watersheds. This event was previously scheduled for February 26\, 2022 and due to unforeseen circumstances has been rescheduled for March 5 from 4-6pm. If you have already registered\, the same Zoom link will work.
LOCATION:Register for Zoom access to this invaluable discussion at bit.ly/TEKlake. Pre-registration is required so that the Zoom room can accommodate all virtual attendees.
UID:e.2411.13964
SEQUENCE:3
DTSTAMP:20260425T034657Z
URL:https://support.lakecochamber.com/events/details/traditional-ecological-knowledge-tek-and-fire-management-panel-discussion-on-zoom-13964
END:VEVENT

END:VCALENDAR
