BEGIN:VCALENDAR
VERSION:2.0
PRODID:-//ChamberMaster//Event Calendar 2.0//EN
METHOD:PUBLISH
X-PUBLISHED-TTL:P3D
REFRESH-INTERVAL:P3D
CALSCALE:GREGORIAN
BEGIN:VEVENT
DTSTART:20240830T013000Z
DTEND:20240830T030000Z
X-MICROSOFT-CDO-ALLDAYEVENT:FALSE
SUMMARY:Trivia Night at Wine in the Willows
DESCRIPTION:Test your trivia knowledge! Bring your friends. Teams of up to 4 people. Prizes awarded for 1st\, 2nd & 3rd place. (Must be 21+)
X-ALT-DESC;FMTTYPE=text/html:Test your trivia knowledge! Bring your friends. Teams of up to 4 people. Prizes awarded for 1st\, 2nd &amp\; 3rd place. (Must be 21+)
LOCATION:Wine in the Willows 125 Park Street Lakeport
UID:e.2411.18854
SEQUENCE:3
DTSTAMP:20260425T002204Z
URL:https://support.lakecochamber.com/events/details/trivia-night-at-wine-in-the-willows-08-29-2024-18854
END:VEVENT

END:VCALENDAR
