BEGIN:VCALENDAR
VERSION:2.0
PRODID:-//ChamberMaster//Event Calendar 2.0//EN
METHOD:PUBLISH
X-PUBLISHED-TTL:P3D
REFRESH-INTERVAL:P3D
CALSCALE:GREGORIAN
BEGIN:VEVENT
DTSTART:20220503T170000Z
DTEND:20220503T200000Z
X-MICROSOFT-CDO-ALLDAYEVENT:FALSE
SUMMARY:Tuesday Market at the Park
DESCRIPTION:Make attending this weekly farmers' market a habit! Fresh produce\, beautiful crafts\, live music\, and great food options too. Shop for your family\, have a picnic in lovely Library Park in Lakeport\, while enjoying great local music! Rain or Shine.
X-ALT-DESC;FMTTYPE=text/html:Make attending this weekly farmers&#39\; market a habit! Fresh produce\, beautiful crafts\, live music\, and great food options too. Shop for your family\, have a picnic in lovely Library Park in Lakeport\, while enjoying great local music! Rain or Shine.
LOCATION:Library Park in Lakeport
UID:e.2411.14435
SEQUENCE:3
DTSTAMP:20260424T220328Z
URL:https://support.lakecochamber.com/events/details/tuesday-market-at-the-park-14435
END:VEVENT

END:VCALENDAR
