BEGIN:VCALENDAR
VERSION:2.0
PRODID:-//ChamberMaster//Event Calendar 2.0//EN
METHOD:PUBLISH
X-PUBLISHED-TTL:P3D
REFRESH-INTERVAL:P3D
CALSCALE:GREGORIAN
BEGIN:VEVENT
DTSTART:20180527T153000Z
DTEND:20180527T170000Z
X-MICROSOFT-CDO-ALLDAYEVENT:FALSE
SUMMARY:Two Mile & 5K walk & Run
DESCRIPTION:This Walk/Run begins at the Westside Community Park and finishes at the Kiwanis Craft Fair located at Natural High School. This family event is sponsored by the Westside Community Park Committee to support continued development of the park. Registration is available online at www.westsidecommunitypark.org or at 8:00 AM before the event. All entrants will receive a Westside Park t-shirt.
X-ALT-DESC;FMTTYPE=text/html:This Walk/Run begins at the Westside Community Park and finishes at the Kiwanis Craft Fair located at Natural High School. This family event is sponsored by the Westside Community Park Committee to support continued development of the park. Registration is available online at www.westsidecommunitypark.org or at 8:00 AM before the event. All entrants will receive a Westside Park t-shirt.
LOCATION:Westside Community Park 1401 Westside Park Road Lakeport\, CA Off of Parallel Drive
UID:e.2411.5563
SEQUENCE:3
DTSTAMP:20260423T223257Z
URL:https://support.lakecochamber.com/events/details/two-mile-5k-walk-run-5563
END:VEVENT

END:VCALENDAR
