BEGIN:VCALENDAR
VERSION:2.0
PRODID:-//ChamberMaster//Event Calendar 2.0//EN
METHOD:PUBLISH
X-PUBLISHED-TTL:P3D
REFRESH-INTERVAL:P3D
CALSCALE:GREGORIAN
BEGIN:VEVENT
DTSTART:20220712T003000Z
DTEND:20220716T030000Z
X-MICROSOFT-CDO-ALLDAYEVENT:FALSE
SUMMARY:Vacation Bible School - Monumental
DESCRIPTION:For kids entering 1st-6th grade. Free event with bounce houses\, games\, skits\, snacks and more fun. Come and celebrate God's greatness!
X-ALT-DESC;FMTTYPE=text/html:For kids entering 1st-6th grade. Free event with bounce houses\, games\, skits\, snacks and more fun. Come and celebrate God&#39\;s greatness!
LOCATION:Grace Church Kelseyville 6716 Live Oak Drive Kelseyville
UID:e.2411.15149
SEQUENCE:3
DTSTAMP:20260424T131250Z
URL:https://support.lakecochamber.com/events/details/vacation-bible-school-monumental-15149
END:VEVENT

END:VCALENDAR
