BEGIN:VCALENDAR
VERSION:2.0
PRODID:-//ChamberMaster//Event Calendar 2.0//EN
METHOD:PUBLISH
X-PUBLISHED-TTL:P3D
REFRESH-INTERVAL:P3D
CALSCALE:GREGORIAN
BEGIN:VEVENT
DTSTART:20260122T020000Z
DTEND:20260122T040000Z
X-MICROSOFT-CDO-ALLDAYEVENT:FALSE
SUMMARY:Wednesday Unplugged with Dou Nouveau
DESCRIPTION:Join us Wednesday\, January 21st for Wednesdays Unplugged with Dou Nouveau featuring Dory Smith and legendary Jim Williams of Hip Replacements - one of Lake County's best musicians. Dinner service starts at 5:30pm and Music starts at 6:00pm. For reservations\, call 707-256-8000 or book on-line at https://www.onthewaterfrontlakeport.com/reservations
X-ALT-DESC;FMTTYPE=text/html:Join us Wednesday\, January 21st for Wednesdays Unplugged with Dou Nouveau featuring Dory Smith and legendary Jim Williams of Hip Replacements - one of Lake County&#39\;s best musicians. Dinner service starts at 5:30pm and Music starts at 6:00pm. For reservations\, call 707-256-8000 or book on-line at https://www.onthewaterfrontlakeport.com/reservations
LOCATION:On The Waterfront Restaurant 60 3rd Street\, Lakeport\, CA 95453
UID:e.2411.20317
SEQUENCE:3
DTSTAMP:20260421T120743Z
URL:https://support.lakecochamber.com/events/details/wednesday-unplugged-with-dou-nouveau-20317
END:VEVENT

END:VCALENDAR
