BEGIN:VCALENDAR
VERSION:2.0
PRODID:-//ChamberMaster//Event Calendar 2.0//EN
METHOD:PUBLISH
X-PUBLISHED-TTL:P3D
REFRESH-INTERVAL:P3D
CALSCALE:GREGORIAN
BEGIN:VEVENT
DTSTART:20260129T020000Z
DTEND:20260129T040000Z
X-MICROSOFT-CDO-ALLDAYEVENT:FALSE
SUMMARY:Wednesdays Unplugged with Dave Sammel
DESCRIPTION:Join us Wednesday\, January 28th for WEDNESDAYS UNPLUGGED with Dave Sammel at On The Waterfront Restaurant. Dave is a local musician who plays out occasionally and we are blessed to have him performing in Lakeport. Hear classics from the Beatles\, Van Morrison\, Fleetwood Mac and more. As On The Waterfront is one of Dave's favorite restaurants and he always brings a crowd\, we suggest that you come early. Dinner starts at 5:30p and music begins at 6:00p. For reservations\, call 707-256-8000 or book on-line at https://www.onthewaterfrontlakeport.com/reservations
X-ALT-DESC;FMTTYPE=text/html:Join us Wednesday\, January 28th for WEDNESDAYS UNPLUGGED with Dave Sammel at On The Waterfront Restaurant. Dave is a local musician who plays out occasionally and we are blessed to have him performing in Lakeport. Hear classics from the Beatles\, Van Morrison\, Fleetwood Mac and more. As On The Waterfront is one of Dave&#39\;s favorite restaurants and he always brings a crowd\, we suggest that you come early. Dinner starts at 5:30p and music begins at 6:00p. For reservations\, call 707-256-8000 or book on-line at https://www.onthewaterfrontlakeport.com/reservations
LOCATION:On The Waterfront Restaurant 60 3rd Street\, Lakeport\, CA 95453
UID:e.2411.20318
SEQUENCE:3
DTSTAMP:20260421T120854Z
URL:https://support.lakecochamber.com/events/details/wednesdays-unplugged-with-dave-sammel-01-28-2026-20318
END:VEVENT

END:VCALENDAR
