BEGIN:VCALENDAR
VERSION:2.0
PRODID:-//ChamberMaster//Event Calendar 2.0//EN
METHOD:PUBLISH
X-PUBLISHED-TTL:P3D
REFRESH-INTERVAL:P3D
CALSCALE:GREGORIAN
BEGIN:VEVENT
DTSTART:20260205T020000Z
DTEND:20260205T040000Z
X-MICROSOFT-CDO-ALLDAYEVENT:FALSE
SUMMARY:Wednesdays Unplugged with Equinox
DESCRIPTION:Join us this Wednesday\, February 4th with Equinox for "Wednesdays Unplugged" live music at On The Waterfront Restaurant in Lakeport. Equinox is a collaboration between two Lake County veteran musicians - Randy Hood and Gloria Strasburg. Come to hear this extraordinary collaboration of Lake County Musicians. Dinner service starts at 5:30pm and Music starts at 6:00pm. For reservations\, call 707-256-8000 or book on-line at https://www.onthewaterfrontlakeport.com/reservations
X-ALT-DESC;FMTTYPE=text/html:Join us this Wednesday\, February 4th with Equinox for &quot\;Wednesdays Unplugged&quot\; live music at On The Waterfront Restaurant in Lakeport. Equinox is a collaboration between two Lake County veteran musicians - Randy Hood and Gloria Strasburg. Come to hear this extraordinary collaboration of Lake County Musicians. Dinner service starts at 5:30pm and Music starts at 6:00pm. For reservations\, call 707-256-8000 or book on-line at https://www.onthewaterfrontlakeport.com/reservations
LOCATION:On The Waterfront Restaurant 60 3rd Street\, Lakeport\, CA 95453
UID:e.2411.20319
SEQUENCE:3
DTSTAMP:20260425T195629Z
URL:https://support.lakecochamber.com/events/details/wednesdays-unplugged-with-equinox-02-04-2026-20319
END:VEVENT

END:VCALENDAR
