BEGIN:VCALENDAR
VERSION:2.0
PRODID:-//ChamberMaster//Event Calendar 2.0//EN
METHOD:PUBLISH
X-PUBLISHED-TTL:P3D
REFRESH-INTERVAL:P3D
CALSCALE:GREGORIAN
BEGIN:VEVENT
DTSTART:20260115T020000Z
DTEND:20260115T040000Z
X-MICROSOFT-CDO-ALLDAYEVENT:FALSE
SUMMARY:Wednesdays Unplugged with Heart & Soul
DESCRIPTION:Join us Wednesday\, January 14th for an evening of live music featuring Heart & Soul\, the guitarist and vocal duet of Jill Shaul & Mark Weston\, singing your favorite folk and classic rock songs. Join us every Wednesday for great food\, beer\, wine and music in downtown Lakeport next to Library Park. Dinner service starts at 5:30pm and Music starts at 6:00pm. For reservations\, call 707-256-8000 or book on-line at https://www.onthewaterfrontlakeport.com/reservations
X-ALT-DESC;FMTTYPE=text/html:Join us Wednesday\, January 14th for an evening of live music featuring Heart &amp\; Soul\, the guitarist and vocal duet of Jill Shaul &amp\; Mark Weston\, singing your favorite folk and classic rock songs. Join us every Wednesday for great food\, beer\, wine and music in downtown Lakeport next to Library Park. Dinner service starts at 5:30pm and Music starts at 6:00pm. For reservations\, call 707-256-8000 or book on-line at https://www.onthewaterfrontlakeport.com/reservations
LOCATION:On The Waterfront Restaurant 60 3rd Street\, Lakeport\, CA 95453
UID:e.2411.20316
SEQUENCE:3
DTSTAMP:20260421T120927Z
URL:https://support.lakecochamber.com/events/details/wednesdays-unplugged-with-heart-soul-01-14-2026-20316
END:VEVENT

END:VCALENDAR
