BEGIN:VCALENDAR
VERSION:2.0
PRODID:-//ChamberMaster//Event Calendar 2.0//EN
METHOD:PUBLISH
X-PUBLISHED-TTL:P3D
REFRESH-INTERVAL:P3D
CALSCALE:GREGORIAN
BEGIN:VEVENT
DTSTART:20260319T003000Z
DTEND:20260319T030000Z
X-MICROSOFT-CDO-ALLDAYEVENT:FALSE
SUMMARY:Wednesdays Unplugged with Heart & Soul
DESCRIPTION:Join us Wednesday\, March 18th for Wednesdays Unplugged\, an evening of live music featuring Heart & Soul\, the guitarist and vocal duet of Jill Shaul & Mark Weston\, singing your favorite folk and classic rock songs. Join us every Wednesday for great food\, beer\, wine and music in downtown Lakeport next to Library Park. Dinner service starts at 5:30pm and Music starts at 6:00pm. For reservations\, call 707-256-8000 or book on-line at https://www.onthewaterfrontlakeport.com/reservations WEDNESDAYS UNPLUGGED - Lake County's Live Music Dinner Theatre at On The Waterfront Restaurant - 60 Third St\, Lakeport\, CA 95453 - 707-256-8000 - https://www.onthewaterfrontlakeport.com/wednesdays-unplugged
X-ALT-DESC;FMTTYPE=text/html:Join us Wednesday\, March 18th for Wednesdays Unplugged\, an evening of live music featuring Heart &amp\; Soul\, the guitarist and vocal duet of Jill Shaul &amp\; Mark Weston\, singing your favorite folk and classic rock songs. Join us every Wednesday for great food\, beer\, wine and music in downtown Lakeport next to Library Park. Dinner service starts at 5:30pm and Music starts at 6:00pm. For reservations\, call 707-256-8000 or book on-line at https://www.onthewaterfrontlakeport.com/reservations WEDNESDAYS UNPLUGGED - Lake County&#39\;s Live Music Dinner Theatre at On The Waterfront Restaurant - 60 Third St\, Lakeport\, CA 95453 - 707-256-8000 - https://www.onthewaterfrontlakeport.com/wednesdays-unplugged
LOCATION:On The Waterfront Restaurant - 60 Third St\, Lakeport\, CA 95453
UID:e.2411.20370
SEQUENCE:3
DTSTAMP:20260425T142956Z
URL:https://support.lakecochamber.com/events/details/wednesdays-unplugged-with-heart-soul-03-18-2026-20370
END:VEVENT

END:VCALENDAR
