BEGIN:VCALENDAR
VERSION:2.0
PRODID:-//ChamberMaster//Event Calendar 2.0//EN
METHOD:PUBLISH
X-PUBLISHED-TTL:P3D
REFRESH-INTERVAL:P3D
CALSCALE:GREGORIAN
BEGIN:VEVENT
DTSTART:20260416T003000Z
DTEND:20260416T030000Z
X-MICROSOFT-CDO-ALLDAYEVENT:FALSE
SUMMARY:Wednesdays Unplugged with Prather & Guarniero
DESCRIPTION:Join us this Wednesday\, April 15th for the famed Lake County duo of Prather & Guarniero for Wednesdays Unplugged at On The Waterfront Restaurant in Lakeport. You've heard him with Breaker One 9 and the Prather Brothers\, now hear Danny with Mike Guarniero (Mr. Lake County Music) playing and singing classic rock tunes. Plus\, there's always a chance that other Prathers and local musicians may join! Dinner service starts at 5:30pm and Music starts at 6:00pm. For reservations\, call 707-256-8000 or book on-line at https://www.onthewaterfrontlakeport.com/reservations WEDNESDAYS UNPLUGGED - Lake County's Live Music Dinner Theatre at On The Waterfront Restaurant - 60 Third St\, Lakeport\, CA 95453 - 707-256-8000 - https://www.onthewaterfrontlakeport.com/wednesdays-unplugged
X-ALT-DESC;FMTTYPE=text/html:Join us this Wednesday\, April 15th for the famed Lake County duo of Prather &amp\; Guarniero for Wednesdays Unplugged at On The Waterfront Restaurant in Lakeport. You&#39\;ve heard him with Breaker One 9 and the Prather Brothers\, now hear Danny with Mike Guarniero (Mr. Lake County Music) playing and singing classic rock tunes. Plus\, there&#39\;s always a chance that other Prathers and local musicians may join! Dinner service starts at 5:30pm and Music starts at 6:00pm. For reservations\, call 707-256-8000 or book on-line at https://www.onthewaterfrontlakeport.com/reservations WEDNESDAYS UNPLUGGED - Lake County&#39\;s Live Music Dinner Theatre at On The Waterfront Restaurant - 60 Third St\, Lakeport\, CA 95453 - 707-256-8000 - https://www.onthewaterfrontlakeport.com/wednesdays-unplugged
LOCATION:On The Waterfront Restaurant - 60 Third St\, Lakeport\, CA 95453
UID:e.2411.20372
SEQUENCE:3
DTSTAMP:20260420T162506Z
URL:https://support.lakecochamber.com/events/details/wednesdays-unplugged-with-prather-guarniero-04-15-2026-20372
END:VEVENT

END:VCALENDAR
