BEGIN:VCALENDAR
VERSION:2.0
PRODID:-//ChamberMaster//Event Calendar 2.0//EN
METHOD:PUBLISH
X-PUBLISHED-TTL:P3D
REFRESH-INTERVAL:P3D
CALSCALE:GREGORIAN
BEGIN:VEVENT
DTSTART:20181110T220000Z
DTEND:20181111T000000Z
X-MICROSOFT-CDO-ALLDAYEVENT:FALSE
SUMMARY:Windows 10 Essentials - Live Workshop
DESCRIPTION:LEARN THE ESSENTIALS OF WINDOWS 10 IN THIS LIVE 2-HOUR WORKSHOP Sign up at https://www.markrudiger.com/workshop LEARN HOW TO Personalize the settings for the way you work\, including changing appearance\, installing apps\, setting your backup\, turning on security. LEARN HOW TO Manage and organize files and folders\, use the new web browser\, and more. LEARN HOW TO Keep your computer safe from malware by using the free security system in Windows 10 Location: 15642 Armstong Street\, Middletown Plus Learn My #1 Secret Trick to make Windows 10 easy to use Secret #2 How to Download Programs faster and WITHOUT getting Malware You can only learn this by attending the event in person. Sign up now to get your seat! https://www.markrudiger.com/workshop Located at 15642 Armstrong Street in Middletown\, CA (In the Jazzercise building)
X-ALT-DESC;FMTTYPE=text/html:LEARN THE ESSENTIALS OF WINDOWS 10 IN THIS LIVE 2-HOUR WORKSHOP Sign up at https://www.markrudiger.com/workshop LEARN HOW TO Personalize the settings for the way you work\, including changing appearance\, installing apps\, setting your backup\, turning on security. LEARN HOW TO Manage and organize files and folders\, use the new web browser\, and more. LEARN HOW TO Keep your computer safe from malware by using the free security system in Windows 10 Location: 15642 Armstong Street\, Middletown Plus Learn My #1 Secret Trick to make Windows 10 easy to use Secret #2 How to Download Programs faster and WITHOUT getting Malware You can only learn this by attending the event in person. Sign up now to get your seat! https://www.markrudiger.com/workshop Located at 15642 Armstrong Street in Middletown\, CA (In the Jazzercise building)
LOCATION:Located at 15642 Armstrong Street in Middletown\, CA (In the Jazzercise building)
UID:e.2411.6219
SEQUENCE:3
DTSTAMP:20260423T225214Z
URL:https://support.lakecochamber.com/events/details/windows-10-essentials-live-workshop-6219
END:VEVENT

END:VCALENDAR
