BEGIN:VCALENDAR
VERSION:2.0
PRODID:-//ChamberMaster//Event Calendar 2.0//EN
METHOD:PUBLISH
X-PUBLISHED-TTL:P3D
REFRESH-INTERVAL:P3D
CALSCALE:GREGORIAN
BEGIN:VEVENT
DTSTART:20220528T180000Z
DTEND:20220528T200000Z
X-MICROSOFT-CDO-ALLDAYEVENT:FALSE
SUMMARY:Write On with Jordan O'Halloran
DESCRIPTION:Published author and teacher Jordan O'Halloran invites writers and those who want to write to come to this class. This class is suitable for all ages. This will be a weekly class every Saturday from 11-1
X-ALT-DESC;FMTTYPE=text/html:Published author and teacher Jordan O&#39\;Halloran invites writers and those who want to write to come to this class. This class is suitable for all ages. This will be a weekly class every Saturday from 11-1
LOCATION:Main Street Gallery 325 N. Main Street Lakeport
UID:e.2411.14673
SEQUENCE:3
DTSTAMP:20260424T050959Z
URL:https://support.lakecochamber.com/events/details/write-on-with-jordan-o-halloran-14673
END:VEVENT

END:VCALENDAR
