BEGIN:VCALENDAR
VERSION:2.0
PRODID:-//ChamberMaster//Event Calendar 2.0//EN
METHOD:PUBLISH
X-PUBLISHED-TTL:P3D
REFRESH-INTERVAL:P3D
CALSCALE:GREGORIAN
BEGIN:VEVENT
DTSTART:20220610T000000Z
DTEND:20220610T020000Z
X-MICROSOFT-CDO-ALLDAYEVENT:FALSE
SUMMARY:Writers Circle
DESCRIPTION:The Writers Workshop is returning to the Main Street Gallery on the 2nd Thursday of each month beginning on June 9th from 5:00pm   7:00pm. The Writers Circle is free and all are welcome regardless of writing genre or experience. Bring work in progress for positive feedback. Participation is encouraged but also optional for those not quite ready to share. The Circle will be facilitated by Richard Schmidt\, writer and published author.
X-ALT-DESC;FMTTYPE=text/html:The Writers Workshop is returning to the Main Street Gallery on the 2nd Thursday of each month beginning on June 9th from 5:00pm &ndash\; 7:00pm. The Writers Circle is free and all are welcome regardless of writing genre or experience. Bring work in progress for positive feedback. Participation is encouraged but also optional for those not quite ready to share. The Circle will be facilitated by Richard Schmidt\, writer and published author.
LOCATION:Main Street Gallery 325 N. Main St. Lakeport CA 95453
UID:e.2411.14918
SEQUENCE:3
DTSTAMP:20260423T203840Z
URL:https://support.lakecochamber.com/events/details/writers-circle-06-09-2022-14918
END:VEVENT

END:VCALENDAR
