BEGIN:VCALENDAR
VERSION:2.0
PRODID:-//ChamberMaster//Event Calendar 2.0//EN
METHOD:PUBLISH
X-PUBLISHED-TTL:P3D
REFRESH-INTERVAL:P3D
CALSCALE:GREGORIAN
BEGIN:VEVENT
DTSTART:20180728T190000Z
DTEND:20180729T000000Z
X-MICROSOFT-CDO-ALLDAYEVENT:FALSE
SUMMARY:Writers Workshop
DESCRIPTION:Writer/instructor Clive Matson will return to MAC to lead the Writers Workshop. Come express yourself on paper in a safe and nurturing environment. Appropriate for all ages 12 and up and all levels of experience.
X-ALT-DESC;FMTTYPE=text/html:Writer/instructor Clive Matson will return to MAC to lead the Writers Workshop. Come express yourself on paper in a safe and nurturing environment. Appropriate for all ages 12 and up and all levels of experience.
LOCATION:Middletown Art Center\, 21456 State Hwy 175@ 29\, Middletown CA 95461
UID:e.2411.5822
SEQUENCE:3
DTSTAMP:20260423T194009Z
URL:https://support.lakecochamber.com/events/details/writers-workshop-5822
END:VEVENT

END:VCALENDAR
