BEGIN:VCALENDAR
VERSION:2.0
PRODID:-//ChamberMaster//Event Calendar 2.0//EN
METHOD:PUBLISH
X-PUBLISHED-TTL:P3D
REFRESH-INTERVAL:P3D
CALSCALE:GREGORIAN
BEGIN:VEVENT
DTSTART:20180705T173000Z
DTEND:20180705T190000Z
X-MICROSOFT-CDO-ALLDAYEVENT:FALSE
SUMMARY:Youth and High School Paddling\, Rowing and Water Safety Camp
DESCRIPTION:Clear Lake Scullers is a community based rowing club offering instruction and access to rowing\, paddling\, canoeing\, kayaking and sailing equipment. Membership is open to the public with year round programs for adults and summer programs for youth. The goal of Clear Lake Scullers is to provide broad access to beautiful Clear Lake by exposing people to a wide variety of aquatic sports with emphasis on safety\, competence and recreation\, as well as teaching the skills necessary for athletes to train and race at the collegiate\, masters\, or national level.\n\n\n\nThe successful completion of this camp will allow you to fully participate in the club's activities\, including taking boats out on your own.\n\n\n\nCost is $40 per participant and includes 5 days of instruction and all equipment rentals.\n\n\n\nFor more information\, contact : Mike Sullivan www.clearlakescullers.org sulsness@yahoo.com 707-349-9779
X-ALT-DESC;FMTTYPE=text/html:Clear Lake Scullers is a community based rowing club offering instruction and access to rowing\, paddling\, canoeing\, kayaking and sailing equipment. Membership is open to the public with year round programs for adults and summer programs for youth. The goal of Clear Lake Scullers is to provide broad access to beautiful Clear Lake by exposing people to a wide variety of aquatic sports with emphasis on safety\, competence and recreation\, as well as teaching the skills necessary for athletes to train and race at the collegiate\, masters\, or national level.<br />\n<br />\nThe successful completion of this camp will allow you to fully participate in the club&#39\;s activities\, including taking boats out on your own.<br />\n<br />\nCost is $40 per participant and includes 5 days of instruction and all equipment rentals.<br />\n<br />\nFor more information\, contact : Mike Sullivan www.clearlakescullers.org sulsness@yahoo.com 707-349-9779
LOCATION:Clear Lake Scullers Boatyard\, N. Main St.\, Lakeport (former Natural High location)
UID:e.2411.5794
SEQUENCE:3
DTSTAMP:20260423T195857Z
URL:https://support.lakecochamber.com/events/details/youth-and-high-school-paddling-rowing-and-water-safety-camp-07-05-2018-5794
END:VEVENT

END:VCALENDAR
